BEGIN:VCALENDAR
VERSION:2.0
METHOD:PUBLISH
PRODID:-//imacoda.com//SPD-Web-O-Mat//EN
CALSCALE:GREGORIAN
BEGIN:VTIMEZONE
TZID:Europe/Berlin
BEGIN:DAYLIGHT
TZOFFSETFROM:+0100
RRULE:FREQ=YEARLY;BYMONTH=3;BYDAY=-1SU
DTSTART:19810329T020000
TZNAME:MESZ
TZOFFSETTO:+0200
END:DAYLIGHT
BEGIN:STANDARD
TZOFFSETFROM:+0200
RRULE:FREQ=YEARLY;BYMONTH=10;BYDAY=-1SU
DTSTART:19961027T030000
TZNAME:MEZ
TZOFFSETTO:+0100
END:STANDARD
END:VTIMEZONE
BEGIN:VEVENT
UID:20260420T191028Z-00001187393-LULU@www.bayernspd.de
CREATED:20260420T191028Z
LAST-MODIFIED:20260420T191503Z
DTSTAMP:20260420T191503Z
TRANSP:TRANSPARENT
DTSTART;TZID=Europe/Berlin:20260521T190000
DTEND;TZID=Europe/Berlin:20260521T210000
SUMMARY:Themenabend im Roten Eck: "Europaweite Krise der Sozialdemokrati
 e" - Infos\, Ausblicke und Diskussion
LOCATION:Rotes Eck\, Kniebos 3\, 83278 Traunstein
DESCRIPTION:Termin im Web (SPD Traunstein):\nhttps://spd-ov-traunstein.d
 e/termine/?id=1187393
END:VEVENT
END:VCALENDAR
